BEGIN:VCALENDAR
VERSION:2.0
PRODID:-//Community Church of Hope - ECPv6.15.20//NONSGML v1.0//EN
CALSCALE:GREGORIAN
METHOD:PUBLISH
X-WR-CALNAME:Community Church of Hope
X-ORIGINAL-URL:https://communitychurchofhope.com
X-WR-CALDESC:Events for Community Church of Hope
REFRESH-INTERVAL;VALUE=DURATION:PT1H
X-Robots-Tag:noindex
X-PUBLISHED-TTL:PT1H
BEGIN:VTIMEZONE
TZID:UTC
BEGIN:STANDARD
TZOFFSETFROM:+0000
TZOFFSETTO:+0000
TZNAME:UTC
DTSTART:20230101T000000
END:STANDARD
END:VTIMEZONE
BEGIN:VEVENT
DTSTART;VALUE=DATE:20240901
DTEND;VALUE=DATE:20240902
DTSTAMP:20260420T031906
CREATED:20240504T032147Z
LAST-MODIFIED:20240504T032147Z
UID:10000553-1725148800-1725235199@communitychurchofhope.com
SUMMARY:First Sunday - Nourish Phoenix & Change4Hope
DESCRIPTION:You know what that means! \nEvery first Sunday\, we come together to help those in our Community. \nBring your loose change for Change for Hope\, so that we may support those who have more month than money left. \nDonations are appreciated in forms of clothing\, sanitation productions and food for our Community Partners at Nourish Phoenix.
URL:https://communitychurchofhope.com/event/first-sunday/2024-09-01/
LOCATION:Community Church of Hope\, 4124 N. 6th Drive\, Phoenix\, AZ\, 85013\, United States
CATEGORIES:Community Building
ATTACH;FMTTYPE=image/png:https://communitychurchofhope.com/wp-content/uploads/2024/05/little-light.png
END:VEVENT
BEGIN:VEVENT
DTSTART;TZID=UTC:20240907T100000
DTEND;TZID=UTC:20240907T120000
DTSTAMP:20260420T031906
CREATED:20240716T051754Z
LAST-MODIFIED:20240716T051754Z
UID:10000634-1725703200-1725710400@communitychurchofhope.com
SUMMARY:Race\, Ethnicity\, Ancestry & Nationality.
DESCRIPTION:With Geoff Johnson. \nGain insight on these aspects that make us uniquely who we are!
URL:https://communitychurchofhope.com/event/race-ethnicity-ancestry-nationality/
LOCATION:Community Church of Hope\, 4124 N. 6th Drive\, Phoenix\, AZ\, 85013\, United States
CATEGORIES:University of Hope
ATTACH;FMTTYPE=image/jpeg:https://communitychurchofhope.com/wp-content/uploads/2024/05/CocreatingCCHU.jpg
END:VEVENT
BEGIN:VEVENT
DTSTART;TZID=UTC:20240914T100000
DTEND;TZID=UTC:20240914T100000
DTSTAMP:20260420T031906
CREATED:20240806T005435Z
LAST-MODIFIED:20240806T005759Z
UID:10000694-1726308000-1726308000@communitychurchofhope.com
SUMMARY:Community Chat: The Trans & Gender Spectrum Experience
DESCRIPTION:With your host\, Rev. Andy! \n 
URL:https://communitychurchofhope.com/event/community-chat-the-trans-gender-spectrum-experience/
CATEGORIES:University of Hope
ATTACH;FMTTYPE=image/jpeg:https://communitychurchofhope.com/wp-content/uploads/2024/05/CocreatingCCHU.jpg
END:VEVENT
BEGIN:VEVENT
DTSTART;TZID=UTC:20240921T090000
DTEND;TZID=UTC:20240921T090000
DTSTAMP:20260420T031906
CREATED:20240716T051945Z
LAST-MODIFIED:20240806T005607Z
UID:10000635-1726909200-1726909200@communitychurchofhope.com
SUMMARY:Designing Jewelry Drawsting Bags
DESCRIPTION:With Rev. Patrick. \nLearn to construct a drawstring bag with inside pockets for travel or home storage. \n$10 materials fee \n 
URL:https://communitychurchofhope.com/event/jeweled-zippered-pouches/
LOCATION:Community Church of Hope\, 4124 N. 6th Drive\, Phoenix\, AZ\, 85013\, United States
CATEGORIES:University of Hope
ATTACH;FMTTYPE=image/jpeg:https://communitychurchofhope.com/wp-content/uploads/2024/05/CocreatingCCHU.jpg
END:VEVENT
BEGIN:VEVENT
DTSTART;TZID=UTC:20240925T183000
DTEND;TZID=UTC:20240925T200000
DTSTAMP:20260420T031906
CREATED:20240820T043206Z
LAST-MODIFIED:20240820T043215Z
UID:10000880-1727289000-1727294400@communitychurchofhope.com
SUMMARY:Women's Spirituality Gathering
DESCRIPTION:Come gather every Wednesday evening in a talking circle format to share\, learn and grow. \nConnect with Rev. Kim or Debbie if you have any questions. \n──────────\nCommunity Church of Hope is inviting you to a scheduled Zoom meeting. \nJoin Zoom Meeting\nhttps://zoom.us/j/94477210713 \nMeeting ID: 944 7721 0713
URL:https://communitychurchofhope.com/event/womens-spiritual-gathering/2024-09-25/
CATEGORIES:University of Hope
ATTACH;FMTTYPE=image/jpeg:https://communitychurchofhope.com/wp-content/uploads/2024/05/CocreatingCCHU.jpg
END:VEVENT
BEGIN:VEVENT
DTSTART;TZID=UTC:20240929T140000
DTEND;TZID=UTC:20240929T140000
DTSTAMP:20260420T031906
CREATED:20240806T010218Z
LAST-MODIFIED:20240806T010231Z
UID:10000695-1727618400-1727618400@communitychurchofhope.com
SUMMARY:Applied Color Theory
DESCRIPTION:With Chris F. & Bill B. \nLearn about the effects of color usage\, chakras\, effects of metals and more. \nClass limit: 20
URL:https://communitychurchofhope.com/event/applied-color-theory/
LOCATION:Community Church of Hope\, 4124 N. 6th Drive\, Phoenix\, AZ\, 85013\, United States
CATEGORIES:University of Hope
ATTACH;FMTTYPE=image/jpeg:https://communitychurchofhope.com/wp-content/uploads/2024/05/CocreatingCCHU.jpg
END:VEVENT
END:VCALENDAR